BEGIN:VCALENDAR
VERSION:2.0
PRODID:-//Winter Festival of Lights - ECPv6.15.11//NONSGML v1.0//EN
CALSCALE:GREGORIAN
METHOD:PUBLISH
X-ORIGINAL-URL:https://wfol.com
X-WR-CALDESC:Events for Winter Festival of Lights
REFRESH-INTERVAL;VALUE=DURATION:PT1H
X-Robots-Tag:noindex
X-PUBLISHED-TTL:PT1H
BEGIN:VTIMEZONE
TZID:America/Toronto
BEGIN:DAYLIGHT
TZOFFSETFROM:-0500
TZOFFSETTO:-0400
TZNAME:EDT
DTSTART:20210314T070000
END:DAYLIGHT
BEGIN:STANDARD
TZOFFSETFROM:-0400
TZOFFSETTO:-0500
TZNAME:EST
DTSTART:20211107T060000
END:STANDARD
BEGIN:DAYLIGHT
TZOFFSETFROM:-0500
TZOFFSETTO:-0400
TZNAME:EDT
DTSTART:20220313T070000
END:DAYLIGHT
BEGIN:STANDARD
TZOFFSETFROM:-0400
TZOFFSETTO:-0500
TZNAME:EST
DTSTART:20221106T060000
END:STANDARD
BEGIN:DAYLIGHT
TZOFFSETFROM:-0500
TZOFFSETTO:-0400
TZNAME:EDT
DTSTART:20230312T070000
END:DAYLIGHT
BEGIN:STANDARD
TZOFFSETFROM:-0400
TZOFFSETTO:-0500
TZNAME:EST
DTSTART:20231105T060000
END:STANDARD
END:VTIMEZONE
BEGIN:VEVENT
DTSTART;TZID=America/Toronto:20221112T120000
DTEND;TZID=America/Toronto:20221112T200000
DTSTAMP:20260424T114614
CREATED:20221109T212316Z
LAST-MODIFIED:20221208T165513Z
UID:4343-1668254400-1668283200@wfol.com
SUMMARY:Niagara City Cruises
DESCRIPTION:Niagara City Cruises\n*This is a ticketed event\, please book your night flight here https://www.niagarafallstourism.com/events/night-fireworks-cruise/ \n 
URL:https://wfol.com/events-calendar/niagara-city-cruises/
LOCATION:ON
CATEGORIES:Event
ATTACH;FMTTYPE=image/jpeg:https://wfol.com/wp-content/uploads/2022/11/NFT-WFOL-Niagara-City-Cruises-08-scaled.jpg
END:VEVENT
BEGIN:VEVENT
DTSTART;TZID=America/Toronto:20221112T173000
DTEND;TZID=America/Toronto:20221112T200000
DTSTAMP:20260424T114614
CREATED:20221109T212818Z
LAST-MODIFIED:20221208T164257Z
UID:4346-1668274200-1668283200@wfol.com
SUMMARY:Winter Nights & Lights Experience
DESCRIPTION:Winter Nights & Lights Experience\nNiagara Helicopters Limited is pleased to announce a NEW and EXCITING tour just in time for the Niagara Falls Winter Festival of Lights – THE WINTER NIGHTS AND LIGHTS EXPERIENCE! \nBeginning November 12th\, 2022 to April 30th\, 2023\, guests are invited to experience the very first and only night flightseeing tour over Niagara Falls. We’ve taken our Classic Tour and added a wonderful new twist that is sure to delight and inspire! Tours will be offered from Sunset to 8 pm\, daily\, weather permitting. No coupons or discounts will be accepted for this tour. Reservations are suggested but not required. Walk-ins will be accepted until 7:30 pm each night. \n*This is a ticketed event\, please book your night flight here: https://www.niagarafallstourism.com/events/night-helicopter-flight/
URL:https://wfol.com/events-calendar/winter-nights-lights-experience/
LOCATION:ON
CATEGORIES:Event
ATTACH;FMTTYPE=image/jpeg:https://wfol.com/wp-content/uploads/2022/11/Resized-image-Heli.jpg
END:VEVENT
BEGIN:VEVENT
DTSTART;TZID=America/Toronto:20221112T180000
DTEND;TZID=America/Toronto:20221112T203000
DTSTAMP:20260424T114614
CREATED:20221107T194239Z
LAST-MODIFIED:20221213T141606Z
UID:3613-1668276000-1668285000@wfol.com
SUMMARY:A Cool Magician - Ray Anderson
DESCRIPTION:A Cool Magician – Ray Anderson\nIs a comedy magician based out of Toronto\, Ontario\, he has traveled throughout North America performing magic shows in a  variety of settings including private parties\, corporate events\, fairs\, festivals\, soft seat theatres and everything in between. \nSeven national tours under his belt\, He has also performed on many TV specials including “Grand Illusions\, the story of Magic”\, “The Occasion”\, “Canada AM”\, “Breakfast Television” just to name a few. \nHe loves making people laugh. The magic happens to him…you just come along for the ride. \n3 x 30 minute shows at 6:00\, 7:00 & 8:00PM\, Story Time 6:30\, 7:30 & 8:30pm
URL:https://wfol.com/events-calendar/a-cool-magician-ray-anderson/
LOCATION:Elizabeth Room\, Crowne Plaza
CATEGORIES:Event
ATTACH;FMTTYPE=image/jpeg:https://wfol.com/wp-content/uploads/2022/11/16252495_10154115978385776_981790313202273183_o-1.jpg
END:VEVENT
BEGIN:VEVENT
DTSTART;TZID=America/Toronto:20221112T180000
DTEND;TZID=America/Toronto:20221112T210000
DTSTAMP:20260424T114614
CREATED:20221107T202731Z
LAST-MODIFIED:20221212T144229Z
UID:3675-1668276000-1668286800@wfol.com
SUMMARY:Glitter Tattoo
DESCRIPTION:Glitter Tattoo\nServices run throughout the 6-9PM timeframe\, Story Time 6:30\, 7:30 & 8:30pm \n 
URL:https://wfol.com/events-calendar/glitter-tattoo/
LOCATION:Lobby\, Americana Conference Centre & Resort
CATEGORIES:Event
ATTACH;FMTTYPE=image/jpeg:https://wfol.com/wp-content/uploads/2022/11/Screenshot-2022-12-12-094209.jpg
END:VEVENT
BEGIN:VEVENT
DTSTART;TZID=America/Toronto:20221112T180000
DTEND;TZID=America/Toronto:20221112T210000
DTSTAMP:20260424T114614
CREATED:20221109T210653Z
LAST-MODIFIED:20221208T165348Z
UID:4322-1668276000-1668286800@wfol.com
SUMMARY:Sparkling Winter Lights Falls Illumination
DESCRIPTION:Sparkling Winter Lights Falls Illumination\nTo celebrate the beauty and majesty of the winter season and mark the 40th anniversary of the Niagara Falls Winter Festival of Lights\, a new illumination light show “Sparkling Winter Lights” has been produced for Niagara Falls Tourism by the Niagara Falls Illumination Board. The display features the subtle and sometimes harsh movements inspired by winter in the north. From gentle snowfalls to the aurora borealis gliding over snowy tundra\, to blizzards and the frosted falls; winter’s spectacle is exciting and magical. \nThe mighty American and Canadian Horseshoe Falls will come to life every evening with this tribute to the natural beauty all around us.  The display is part of the regular nightly illumination of the Falls\, with the five-minute lighting display playing through on the hour\, at 6:00 pm\, 7:00 pm and 8:00 pm each evening between November 12\, 2022 and February 20\, 2023.
URL:https://wfol.com/events-calendar/illuminations/
LOCATION:ON
CATEGORIES:Event
ATTACH;FMTTYPE=image/jpeg:https://wfol.com/wp-content/uploads/2022/11/NFT-Falls-Illumination-16-scaled.jpg
END:VEVENT
BEGIN:VEVENT
DTSTART;TZID=America/Toronto:20221112T200000
DTEND;TZID=America/Toronto:20221112T210000
DTSTAMP:20260424T114614
CREATED:20221109T205416Z
LAST-MODIFIED:20221208T165219Z
UID:4307-1668283200-1668286800@wfol.com
SUMMARY:Fireworks
DESCRIPTION:Fireworks
URL:https://wfol.com/events-calendar/fireworks/
LOCATION:ON
CATEGORIES:Event
ATTACH;FMTTYPE=image/jpeg:https://wfol.com/wp-content/uploads/2022/11/NFT-WFOL-2022-Fireworks-scaled.jpg
END:VEVENT
END:VCALENDAR
<!-- RunCloud Hub 2026-04-24 11:46:14 -->